BEGIN:VCALENDAR
VERSION:2.0
METHOD:PUBLISH
PRODID:-//imacoda.com//SPD-Web-O-Mat//EN
CALSCALE:GREGORIAN
BEGIN:VTIMEZONE
TZID:Europe/Berlin
BEGIN:DAYLIGHT
TZOFFSETFROM:+0100
RRULE:FREQ=YEARLY;BYMONTH=3;BYDAY=-1SU
DTSTART:19810329T020000
TZNAME:MESZ
TZOFFSETTO:+0200
END:DAYLIGHT
BEGIN:STANDARD
TZOFFSETFROM:+0200
RRULE:FREQ=YEARLY;BYMONTH=10;BYDAY=-1SU
DTSTART:19961027T030000
TZNAME:MEZ
TZOFFSETTO:+0100
END:STANDARD
END:VTIMEZONE
BEGIN:VEVENT
UID:20230115T111322Z-00000888239-LULU@www.bayernspd.de
CREATED:20230115T111322Z
LAST-MODIFIED:20230121T173441Z
DTSTAMP:20230121T173441Z
TRANSP:TRANSPARENT
DTSTART;TZID=Europe/Berlin:20230131T183000
DTEND;TZID=Europe/Berlin:20230131T183000
SUMMARY:SPD Bundestagsabgeordneter Christoph Schmid zu Gast beim Ortsver
 ein Mindelheim - Bad Wörishofen
LOCATION:Mindelheim | Hotel Alte Post\, Maximilianstraße 39
DESCRIPTION:Termin im Web (SPD Mindelheim-Bad Wörishofen):\nhttps://spd-
 mn-bw.de/termine/?id=888239
END:VEVENT
END:VCALENDAR
